{
 "currentVersion": 11.5,
 "cimVersion": "3.5.0",
 "serviceDescription": "",
 "mapName": "Map",
 "description": "",
 "copyrightText": "",
 "supportsDynamicLayers": true,
 "layers": [
  {
   "id": 0,
   "name": "Pictometry_2026",
   "parentLayerId": -1,
   "defaultVisibility": true,
   "subLayerIds": [
    1,
    2,
    3
   ],
   "minScale": 0,
   "maxScale": 0,
   "type": "Mosaic Layer",
   "supportsDynamicLegends": false
  },
  {
   "id": 1,
   "name": "Boundary",
   "parentLayerId": 0,
   "defaultVisibility": false,
   "subLayerIds": null,
   "minScale": 0,
   "maxScale": 0,
   "type": "Feature Layer",
   "geometryType": "esriGeometryPolygon",
   "supportsDynamicLegends": true
  },
  {
   "id": 2,
   "name": "Footprint",
   "parentLayerId": 0,
   "defaultVisibility": false,
   "subLayerIds": null,
   "minScale": 0,
   "maxScale": 0,
   "type": "Feature Layer",
   "geometryType": "esriGeometryPolygon",
   "supportsDynamicLegends": true
  },
  {
   "id": 3,
   "name": "Image",
   "parentLayerId": 0,
   "defaultVisibility": true,
   "subLayerIds": null,
   "minScale": 0,
   "maxScale": 0,
   "type": "Raster Layer",
   "supportsDynamicLegends": true
  },
  {
   "id": 4,
   "name": "NAIP",
   "parentLayerId": -1,
   "defaultVisibility": true,
   "subLayerIds": null,
   "minScale": 0,
   "maxScale": 0,
   "type": "Raster Layer",
   "supportsDynamicLegends": true
  }
 ],
 "tables": [],
 "spatialReference": {
  "wkid": 102744,
  "latestWkid": 3567,
  "xyTolerance": 0.003280833333333333,
  "zTolerance": 0.001,
  "mTolerance": 0.001,
  "falseX": -120766900,
  "falseY": -85132800,
  "xyUnits": 3048.0060960121928,
  "falseZ": -100000,
  "zUnits": 10000,
  "falseM": -100000,
  "mUnits": 10000
 },
 "singleFusedMapCache": true,
 "tileInfo": {
  "rows": 256,
  "cols": 256,
  "dpi": 96,
  "format": "JPEG",
  "compressionQuality": 90,
  "origin": {
   "x": -1.2076655485200635E8,
   "y": 1.19695470701617E8
  },
  "spatialReference": {
   "wkid": 102744,
   "latestWkid": 3567,
   "xyTolerance": 0.003280833333333333,
   "zTolerance": 0.001,
   "mTolerance": 0.001,
   "falseX": -120766900,
   "falseY": -85132800,
   "xyUnits": 3048.0060960121928,
   "falseZ": -100000,
   "zUnits": 10000,
   "falseM": -100000,
   "mUnits": 10000
  },
  "lods": [
   {
    "level": 0,
    "resolution": 956304.4649896328,
    "scale": 1.101664946997951E9
   },
   {
    "level": 1,
    "resolution": 478152.2324948164,
    "scale": 5.508324734989755E8
   },
   {
    "level": 2,
    "resolution": 239076.1162474082,
    "scale": 2.7541623674948776E8
   },
   {
    "level": 3,
    "resolution": 119538.0581237041,
    "scale": 1.3770811837474388E8
   },
   {
    "level": 4,
    "resolution": 59769.02906185205,
    "scale": 6.885405918737194E7
   },
   {
    "level": 5,
    "resolution": 29884.514530926026,
    "scale": 3.442702959368597E7
   },
   {
    "level": 6,
    "resolution": 14942.257265463013,
    "scale": 1.7213514796842985E7
   },
   {
    "level": 7,
    "resolution": 7471.1286327315065,
    "scale": 8606757.398421492
   },
   {
    "level": 8,
    "resolution": 3735.5643163657533,
    "scale": 4303378.699210746
   },
   {
    "level": 9,
    "resolution": 1867.7821581828766,
    "scale": 2151689.349605373
   },
   {
    "level": 10,
    "resolution": 933.8910790914383,
    "scale": 1075844.6748026866
   },
   {
    "level": 11,
    "resolution": 466.94553954571916,
    "scale": 537922.3374013433
   },
   {
    "level": 12,
    "resolution": 233.47276977285958,
    "scale": 268961.16870067164
   },
   {
    "level": 13,
    "resolution": 116.73638488642979,
    "scale": 134480.58435033582
   },
   {
    "level": 14,
    "resolution": 58.368192443214895,
    "scale": 67240.29217516791
   },
   {
    "level": 15,
    "resolution": 29.184096221607447,
    "scale": 33620.146087583955
   },
   {
    "level": 16,
    "resolution": 14.592048110803724,
    "scale": 16810.073043791977
   },
   {
    "level": 17,
    "resolution": 7.296024055401862,
    "scale": 8405.036521895989
   },
   {
    "level": 18,
    "resolution": 3.648012027700931,
    "scale": 4202.518260947994
   },
   {
    "level": 19,
    "resolution": 1.8240060138504655,
    "scale": 2101.259130473997
   },
   {
    "level": 20,
    "resolution": 0.9120030069252327,
    "scale": 1050.6295652369986
   },
   {
    "level": 21,
    "resolution": 0.45600150346261636,
    "scale": 525.3147826184993
   },
   {
    "level": 22,
    "resolution": 0.22800075173130818,
    "scale": 262.65739130924965
   },
   {
    "level": 23,
    "resolution": 0.11400037586565409,
    "scale": 131.32869565462482
   }
  ]
 },
 "storageInfo": {
  "storageFormat": "esriMapCacheStorageModeCompactV2",
  "packetSize": 128
 },
 "initialExtent": {
  "xmin": 1033144.4910289516,
  "ymin": 1.000403990271326E7,
  "xmax": 1035022.1697941426,
  "ymax": 1.0005300872087175E7,
  "spatialReference": {
   "wkid": 102744,
   "latestWkid": 3567,
   "xyTolerance": 0.003280833333333333,
   "zTolerance": 0.001,
   "mTolerance": 0.001,
   "falseX": -120766900,
   "falseY": -85132800,
   "xyUnits": 3048.0060960121928,
   "falseZ": -100000,
   "zUnits": 10000,
   "falseM": -100000,
   "mUnits": 10000
  }
 },
 "fullExtent": {
  "xmin": 889604.462378338,
  "ymin": 9942468.260388687,
  "xmax": 1243255.140840166,
  "ymax": 1.020469235107459E7,
  "spatialReference": {
   "wkid": 102744,
   "latestWkid": 3567,
   "xyTolerance": 0.003280833333333333,
   "zTolerance": 0.001,
   "mTolerance": 0.001,
   "falseX": -120766900,
   "falseY": -85132800,
   "xyUnits": 3048.0060960121928,
   "falseZ": -100000,
   "zUnits": 10000,
   "falseM": -100000,
   "mUnits": 10000
  }
 },
 "datesInUnknownTimezone": false,
 "minScale": 268961.16870067164,
 "maxScale": 2101.259130473997,
 "minLOD": 12,
 "maxLOD": 19,
 "units": "esriFeet",
 "supportedImageFormatTypes": "PNG32,PNG24,PNG,JPG,DIB,TIFF,EMF,PS,PDF,GIF,SVG,SVGZ,BMP",
 "documentInfo": {
  "Title": "Map3",
  "Author": "",
  "Comments": "",
  "Subject": "",
  "Category": "",
  "Version": "3.2.0",
  "AntialiasingMode": "Fast",
  "TextAntialiasingMode": "Force",
  "Keywords": ""
 },
 "supportsQueryDomains": true,
 "capabilities": "Map,Query,Data",
 "supportedQueryFormats": "JSON, geoJSON, PBF",
 "exportTilesAllowed": false,
 "referenceScale": 0.0,
 "supportsDatumTransformation": true,
 "floorAwareMapProperties": {
  "defaultFloorFilterSettings": {
   "isEnabled": false
  }
 },
 "archivingInfo": {
  "supportsHistoricMoment": false
 },
 "supportsClipping": true,
 "supportsSpatialFilter": true,
 "supportsTimeRelation": true,
 "supportsQueryDataElements": true,
 "mapUnits": {
  "uwkid": 9003
 },
 "maxSelectionCount": 2000,
 "maxRecordCount": 2000,
 "maxImageHeight": 4096,
 "maxImageWidth": 4096,
 "supportedExtensions": "",
 "serviceItemId": "c9209f7a970a4e818aa5361943930e72"
}
