View In:
ArcGIS JavaScript
ArcGIS Online Map Viewer
ArcGIS Earth
Service Description: NAIP2021_Washington
Name: NAIP2021_Washington
Description:
Single Fused Map Cache: false
Extent:
XMin: 227050.2
YMin: 4089605.9999999995
XMax: 334464.0
YMax: 4169008.1999999997
Spatial Reference: 26912
(26912)
LatestVCSWkid(0)
Initial Extent:
XMin: 227050.2
YMin: 4089605.9999999995
XMax: 334464.0
YMax: 4169008.1999999997
Spatial Reference: 26912
(26912)
LatestVCSWkid(0)
Full Extent:
XMin: 227050.2
YMin: 4089605.9999999995
XMax: 334464.0
YMax: 4169008.1999999997
Spatial Reference: 26912
(26912)
LatestVCSWkid(0)
Pixel Size X: 0.6
Pixel Size Y: 0.6000000000000014
Band Count: 3
Pixel Type: U8
RasterFunction Infos: {"rasterFunctionInfos": [{
"name": "None",
"description": "",
"help": ""
}]}
Mensuration Capabilities: Basic
Inspection Capabilities:
Has Histograms: true
Has Colormap: false
Has Multi Dimensions : false
Rendering Rule:
Min Scale: 0
Max Scale: 0
Copyright Text:
Service Data Type: esriImageServiceDataTypeRGB
Min Values: 0, 0, 0
Max Values: 219, 203, 187
Mean Values: 107.55699300699, 104.88251748252, 97.561013986014
Standard Deviation Values: 52.531661149499, 48.145414663318, 44.833449960219
Object ID Field:
Fields:
None
Default Mosaic Method: Center
Allowed Mosaic Methods:
SortField:
SortValue: null
Mosaic Operator: First
Default Compression Quality: 75
Default Resampling Method: Bilinear
Max Record Count: null
Max Image Height: 4100
Max Image Width: 15000
Max Download Image Count: null
Max Mosaic Image Count: null
Allow Raster Function: true
Allow Copy: true
Allow Analysis: true
Allow Compute TiePoints: false
Supports Statistics: false
Supports Advanced Queries: false
Use StandardizedQueries: true
Raster Type Infos:
Name: Raster Dataset
Description: Supports all ArcGIS Raster Datasets
Help:
Has Raster Attribute Table: false
Edit Fields Info: null
Ownership Based AccessControl For Rasters: null
Child Resources:
Info
Histograms
Statistics
Key Properties
Legend
Raster Function Infos
Supported Operations:
Export Image
Identify
Measure
Compute Histograms
Compute Statistics Histograms
Get Samples
Compute Class Statistics
Query Boundary
Compute Pixel Location
Compute Angles
Validate
Project