View In:
ArcGIS JavaScript
ArcGIS Online Map Viewer
ArcGIS Earth
ArcGIS Pro
Service Description:
Map Name: Map
Legend
All Layers and Tables
Dynamic Legend
Dynamic All Layers
Layers:
Description:
Service Item Id: c9209f7a970a4e818aa5361943930e72
Copyright Text:
Spatial Reference:
102744
(3567)
LatestVCSWkid(0)
Single Fused Map Cache: true
Tile Info:
- Height: 256.0
- Width: 256.0
- DPI: 96.0
-
Levels of Detail: 24
-
Level ID: 0
[ Start Tile, End Tile ]
- Resolution: 956304.4649896328
- Scale: 1.101664946997951E9
-
Level ID: 1
[ Start Tile, End Tile ]
- Resolution: 478152.2324948164
- Scale: 5.508324734989755E8
-
Level ID: 2
[ Start Tile, End Tile ]
- Resolution: 239076.1162474082
- Scale: 2.7541623674948776E8
-
Level ID: 3
[ Start Tile, End Tile ]
- Resolution: 119538.0581237041
- Scale: 1.3770811837474388E8
-
Level ID: 4
[ Start Tile, End Tile ]
- Resolution: 59769.02906185205
- Scale: 6.885405918737194E7
-
Level ID: 5
[ Start Tile, End Tile ]
- Resolution: 29884.514530926026
- Scale: 3.442702959368597E7
-
Level ID: 6
[ Start Tile, End Tile ]
- Resolution: 14942.257265463013
- Scale: 1.7213514796842985E7
-
Level ID: 7
[ Start Tile, End Tile ]
- Resolution: 7471.1286327315065
- Scale: 8606757.398421492
-
Level ID: 8
[ Start Tile, End Tile ]
- Resolution: 3735.5643163657533
- Scale: 4303378.699210746
-
Level ID: 9
[ Start Tile, End Tile ]
- Resolution: 1867.7821581828766
- Scale: 2151689.349605373
-
Level ID: 10
[ Start Tile, End Tile ]
- Resolution: 933.8910790914383
- Scale: 1075844.6748026866
-
Level ID: 11
[ Start Tile, End Tile ]
- Resolution: 466.94553954571916
- Scale: 537922.3374013433
-
Level ID: 12
[ Start Tile, End Tile ]
- Resolution: 233.47276977285958
- Scale: 268961.16870067164
-
Level ID: 13
[ Start Tile, End Tile ]
- Resolution: 116.73638488642979
- Scale: 134480.58435033582
-
Level ID: 14
[ Start Tile, End Tile ]
- Resolution: 58.368192443214895
- Scale: 67240.29217516791
-
Level ID: 15
[ Start Tile, End Tile ]
- Resolution: 29.184096221607447
- Scale: 33620.146087583955
-
Level ID: 16
[ Start Tile, End Tile ]
- Resolution: 14.592048110803724
- Scale: 16810.073043791977
-
Level ID: 17
[ Start Tile, End Tile ]
- Resolution: 7.296024055401862
- Scale: 8405.036521895989
-
Level ID: 18
[ Start Tile, End Tile ]
- Resolution: 3.648012027700931
- Scale: 4202.518260947994
-
Level ID: 19
[ Start Tile, End Tile ]
- Resolution: 1.8240060138504655
- Scale: 2101.259130473997
-
Level ID: 20
[ Start Tile, End Tile ]
- Resolution: 0.9120030069252327
- Scale: 1050.6295652369986
-
Level ID: 21
[ Start Tile, End Tile ]
- Resolution: 0.45600150346261636
- Scale: 525.3147826184993
-
Level ID: 22
[ Start Tile, End Tile ]
- Resolution: 0.22800075173130818
- Scale: 262.65739130924965
-
Level ID: 23
[ Start Tile, End Tile ]
- Resolution: 0.11400037586565409
- Scale: 131.32869565462482
- Format: JPEG
- Compression Quality: 90.0
- Origin: X: -1.2076655485200635E8
Y: 1.19695470701617E8
- Spatial Reference: 102744
(3567)
LatestVCSWkid(0)
Storage Info:
- Storage Format: esriMapCacheStorageModeCompactV2
- Packet Size: 128
Initial Extent:
XMin: 1033144.4910289516
YMin: 1.000403990271326E7
XMax: 1035022.1697941426
YMax: 1.0005300872087175E7
Spatial Reference: 102744
(3567)
LatestVCSWkid(0)
Full Extent:
XMin: 889604.462378338
YMin: 9942468.260388687
XMax: 1243255.140840166
YMax: 1.020469235107459E7
Spatial Reference: 102744
(3567)
LatestVCSWkid(0)
Units: esriFeet
Supported Image Format Types: PNG32,PNG24,PNG,JPG,DIB,TIFF,EMF,PS,PDF,GIF,SVG,SVGZ,BMP
Document Info:
Title: Map3
Author:
Comments:
Subject:
Category:
Keywords:
AntialiasingMode: Fast
TextAntialiasingMode: Force
Supports Dynamic Layers: true
MaxRecordCount: 2000
MaxSelectionCount: 2000
MaxImageHeight: 4096
MaxImageWidth: 4096
Supported Query Formats: JSON, geoJSON, PBF
Supports Query Data Elements: true
Min Scale: 268961.16870067164
Max Scale: 2101.259130473997
Min LOD: 12
Max LOD: 19
Supports Datum Transformation: true
Child Resources:
Info
Dynamic Layer
Supported Operations:
Export Map
Identify
QueryLegends
QueryDomains
Find
Return Updates